Workbook

Sheet Monatsraster
A1: Social Media Monatsraster
A2: Eine Zeile je Kalendermonat. Graue Felder füllst du aus, weiße Spalten rechnet die Vorlage.
A3: Unternehmen
A4: Kanal
A5: Erster Monat | B5: =DATE(2027,1,1) -> 46388 | C5: Datum eines beliebigen Tages im ersten Monat eintragen, die Monate darunter folgen von selbst.
A7: Monat | B7: Erreichte Konten | C7: Interaktionen | D7: Interaktionsrate in % (Interaktionen ÷ Konten × 100) | E7: Linkklicks | F7: Passende Anfragen | G7: Davon über Anzeigen | H7: Passende Anfragen, letzte 3 Monate | I7: Passende Anfragen, die 3 Monate davor | J7: Hinweis aus den Summen | K7: Anzeigen im Monat (nein oder Budget) | L7: Was war anders? | M7: Entscheidung für den nächsten Monat | N7: Was genau?
A8: Beispiel: Mai | B8: 3100 | C8: 112 | D8: =ROUND(C8/B8*100,1) -> 3.6 | E8: – | F8: 5 | G8: – | H8: 10 | I8: – | K8: – | L8: Vier Beiträge zur Badsanierung mit Preisrahmen, zwei Feiertage | M8: Weiter beobachten | N8: Preisrahmen-Thema im Juni wiederholen, die fünf Anfragenden nach ihrem Weg fragen
A9: =IF(ISNUMBER($B$5),EDATE(DATE(YEAR($B$5),MONTH($B$5),1),0),"") -> 46388 | D9: =IF(AND(ISNUMBER(B9),B9>0,ISNUMBER(C9)),ROUND(C9/B9*100,1),"")
A10: =IF(ISNUMBER($B$5),EDATE(DATE(YEAR($B$5),MONTH($B$5),1),1),"") -> 46419 | D10: =IF(AND(ISNUMBER(B10),B10>0,ISNUMBER(C10)),ROUND(C10/B10*100,1),"")
A11: =IF(ISNUMBER($B$5),EDATE(DATE(YEAR($B$5),MONTH($B$5),1),2),"") -> 46447 | D11: =IF(AND(ISNUMBER(B11),B11>0,ISNUMBER(C11)),ROUND(C11/B11*100,1),"") | H11: =IF(COUNT(F9:F11)=3,SUM(F9:F11),"")
A12: =IF(ISNUMBER($B$5),EDATE(DATE(YEAR($B$5),MONTH($B$5),1),3),"") -> 46478 | D12: =IF(AND(ISNUMBER(B12),B12>0,ISNUMBER(C12)),ROUND(C12/B12*100,1),"") | H12: =IF(COUNT(F10:F12)=3,SUM(F10:F12),"")
A13: =IF(ISNUMBER($B$5),EDATE(DATE(YEAR($B$5),MONTH($B$5),1),4),"") -> 46508 | D13: =IF(AND(ISNUMBER(B13),B13>0,ISNUMBER(C13)),ROUND(C13/B13*100,1),"") | H13: =IF(COUNT(F11:F13)=3,SUM(F11:F13),"")
A14: =IF(ISNUMBER($B$5),EDATE(DATE(YEAR($B$5),MONTH($B$5),1),5),"") -> 46539 | D14: =IF(AND(ISNUMBER(B14),B14>0,ISNUMBER(C14)),ROUND(C14/B14*100,1),"") | H14: =IF(COUNT(F12:F14)=3,SUM(F12:F14),"") | I14: =IF(AND(ISNUMBER(F14),COUNT(F9:F11)=3),SUM(F9:F11),"")
A15: =IF(ISNUMBER($B$5),EDATE(DATE(YEAR($B$5),MONTH($B$5),1),6),"") -> 46569 | D15: =IF(AND(ISNUMBER(B15),B15>0,ISNUMBER(C15)),ROUND(C15/B15*100,1),"") | H15: =IF(COUNT(F13:F15)=3,SUM(F13:F15),"") | I15: =IF(AND(ISNUMBER(F15),COUNT(F10:F12)=3),SUM(F10:F12),"")
A16: =IF(ISNUMBER($B$5),EDATE(DATE(YEAR($B$5),MONTH($B$5),1),7),"") -> 46600 | D16: =IF(AND(ISNUMBER(B16),B16>0,ISNUMBER(C16)),ROUND(C16/B16*100,1),"") | H16: =IF(COUNT(F14:F16)=3,SUM(F14:F16),"") | I16: =IF(AND(ISNUMBER(F16),COUNT(F11:F13)=3),SUM(F11:F13),"")
A17: =IF(ISNUMBER($B$5),EDATE(DATE(YEAR($B$5),MONTH($B$5),1),8),"") -> 46631 | D17: =IF(AND(ISNUMBER(B17),B17>0,ISNUMBER(C17)),ROUND(C17/B17*100,1),"") | H17: =IF(COUNT(F15:F17)=3,SUM(F15:F17),"") | I17: =IF(AND(ISNUMBER(F17),COUNT(F12:F14)=3),SUM(F12:F14),"") | J17: =IF(AND(ISNUMBER(H17),ISNUMBER(I17),ISNUMBER(I14)),IF(AND(H17<I17,H14<I14),"Summe sinkt zum zweiten Mal: eine Sache ändern",""),"")
A18: =IF(ISNUMBER($B$5),EDATE(DATE(YEAR($B$5),MONTH($B$5),1),9),"") -> 46661 | D18: =IF(AND(ISNUMBER(B18),B18>0,ISNUMBER(C18)),ROUND(C18/B18*100,1),"") | H18: =IF(COUNT(F16:F18)=3,SUM(F16:F18),"") | I18: =IF(AND(ISNUMBER(F18),COUNT(F13:F15)=3),SUM(F13:F15),"") | J18: =IF(AND(ISNUMBER(H18),ISNUMBER(I18),ISNUMBER(I15)),IF(AND(H18<I18,H15<I15),"Summe sinkt zum zweiten Mal: eine Sache ändern",""),"")
A19: =IF(ISNUMBER($B$5),EDATE(DATE(YEAR($B$5),MONTH($B$5),1),10),"") -> 46692 | D19: =IF(AND(ISNUMBER(B19),B19>0,ISNUMBER(C19)),ROUND(C19/B19*100,1),"") | H19: =IF(COUNT(F17:F19)=3,SUM(F17:F19),"") | I19: =IF(AND(ISNUMBER(F19),COUNT(F14:F16)=3),SUM(F14:F16),"") | J19: =IF(AND(ISNUMBER(H19),ISNUMBER(I19),ISNUMBER(I16)),IF(AND(H19<I19,H16<I16),"Summe sinkt zum zweiten Mal: eine Sache ändern",""),"")
A20: =IF(ISNUMBER($B$5),EDATE(DATE(YEAR($B$5),MONTH($B$5),1),11),"") -> 46722 | D20: =IF(AND(ISNUMBER(B20),B20>0,ISNUMBER(C20)),ROUND(C20/B20*100,1),"") | H20: =IF(COUNT(F18:F20)=3,SUM(F18:F20),"") | I20: =IF(AND(ISNUMBER(F20),COUNT(F15:F17)=3),SUM(F15:F17),"") | J20: =IF(AND(ISNUMBER(H20),ISNUMBER(I20),ISNUMBER(I17)),IF(AND(H20<I20,H17<I17),"Summe sinkt zum zweiten Mal: eine Sache ändern",""),"")
A21: =IF(ISNUMBER($B$5),EDATE(DATE(YEAR($B$5),MONTH($B$5),1),12),"") -> 46753 | D21: =IF(AND(ISNUMBER(B21),B21>0,ISNUMBER(C21)),ROUND(C21/B21*100,1),"") | H21: =IF(COUNT(F19:F21)=3,SUM(F19:F21),"") | I21: =IF(AND(ISNUMBER(F21),COUNT(F16:F18)=3),SUM(F16:F18),"") | J21: =IF(AND(ISNUMBER(H21),ISNUMBER(I21),ISNUMBER(I18)),IF(AND(H21<I21,H18<I18),"Summe sinkt zum zweiten Mal: eine Sache ändern",""),"")
A22: =IF(ISNUMBER($B$5),EDATE(DATE(YEAR($B$5),MONTH($B$5),1),13),"") -> 46784 | D22: =IF(AND(ISNUMBER(B22),B22>0,ISNUMBER(C22)),ROUND(C22/B22*100,1),"") | H22: =IF(COUNT(F20:F22)=3,SUM(F20:F22),"") | I22: =IF(AND(ISNUMBER(F22),COUNT(F17:F19)=3),SUM(F17:F19),"") | J22: =IF(AND(ISNUMBER(H22),ISNUMBER(I22),ISNUMBER(I19)),IF(AND(H22<I22,H19<I19),"Summe sinkt zum zweiten Mal: eine Sache ändern",""),"")
A23: =IF(ISNUMBER($B$5),EDATE(DATE(YEAR($B$5),MONTH($B$5),1),14),"") -> 46813 | D23: =IF(AND(ISNUMBER(B23),B23>0,ISNUMBER(C23)),ROUND(C23/B23*100,1),"") | H23: =IF(COUNT(F21:F23)=3,SUM(F21:F23),"") | I23: =IF(AND(ISNUMBER(F23),COUNT(F18:F20)=3),SUM(F18:F20),"") | J23: =IF(AND(ISNUMBER(H23),ISNUMBER(I23),ISNUMBER(I20)),IF(AND(H23<I23,H20<I20),"Summe sinkt zum zweiten Mal: eine Sache ändern",""),"")
A24: =IF(ISNUMBER($B$5),EDATE(DATE(YEAR($B$5),MONTH($B$5),1),15),"") -> 46844 | D24: =IF(AND(ISNUMBER(B24),B24>0,ISNUMBER(C24)),ROUND(C24/B24*100,1),"") | H24: =IF(COUNT(F22:F24)=3,SUM(F22:F24),"") | I24: =IF(AND(ISNUMBER(F24),COUNT(F19:F21)=3),SUM(F19:F21),"") | J24: =IF(AND(ISNUMBER(H24),ISNUMBER(I24),ISNUMBER(I21)),IF(AND(H24<I24,H21<I21),"Summe sinkt zum zweiten Mal: eine Sache ändern",""),"")
A25: =IF(ISNUMBER($B$5),EDATE(DATE(YEAR($B$5),MONTH($B$5),1),16),"") -> 46874 | D25: =IF(AND(ISNUMBER(B25),B25>0,ISNUMBER(C25)),ROUND(C25/B25*100,1),"") | H25: =IF(COUNT(F23:F25)=3,SUM(F23:F25),"") | I25: =IF(AND(ISNUMBER(F25),COUNT(F20:F22)=3),SUM(F20:F22),"") | J25: =IF(AND(ISNUMBER(H25),ISNUMBER(I25),ISNUMBER(I22)),IF(AND(H25<I25,H22<I22),"Summe sinkt zum zweiten Mal: eine Sache ändern",""),"")
A26: =IF(ISNUMBER($B$5),EDATE(DATE(YEAR($B$5),MONTH($B$5),1),17),"") -> 46905 | D26: =IF(AND(ISNUMBER(B26),B26>0,ISNUMBER(C26)),ROUND(C26/B26*100,1),"") | H26: =IF(COUNT(F24:F26)=3,SUM(F24:F26),"") | I26: =IF(AND(ISNUMBER(F26),COUNT(F21:F23)=3),SUM(F21:F23),"") | J26: =IF(AND(ISNUMBER(H26),ISNUMBER(I26),ISNUMBER(I23)),IF(AND(H26<I26,H23<I23),"Summe sinkt zum zweiten Mal: eine Sache ändern",""),"")
A27: =IF(ISNUMBER($B$5),EDATE(DATE(YEAR($B$5),MONTH($B$5),1),18),"") -> 46935 | D27: =IF(AND(ISNUMBER(B27),B27>0,ISNUMBER(C27)),ROUND(C27/B27*100,1),"") | H27: =IF(COUNT(F25:F27)=3,SUM(F25:F27),"") | I27: =IF(AND(ISNUMBER(F27),COUNT(F22:F24)=3),SUM(F22:F24),"") | J27: =IF(AND(ISNUMBER(H27),ISNUMBER(I27),ISNUMBER(I24)),IF(AND(H27<I27,H24<I24),"Summe sinkt zum zweiten Mal: eine Sache ändern",""),"")
A28: =IF(ISNUMBER($B$5),EDATE(DATE(YEAR($B$5),MONTH($B$5),1),19),"") -> 46966 | D28: =IF(AND(ISNUMBER(B28),B28>0,ISNUMBER(C28)),ROUND(C28/B28*100,1),"") | H28: =IF(COUNT(F26:F28)=3,SUM(F26:F28),"") | I28: =IF(AND(ISNUMBER(F28),COUNT(F23:F25)=3),SUM(F23:F25),"") | J28: =IF(AND(ISNUMBER(H28),ISNUMBER(I28),ISNUMBER(I25)),IF(AND(H28<I28,H25<I25),"Summe sinkt zum zweiten Mal: eine Sache ändern",""),"")
A29: =IF(ISNUMBER($B$5),EDATE(DATE(YEAR($B$5),MONTH($B$5),1),20),"") -> 46997 | D29: =IF(AND(ISNUMBER(B29),B29>0,ISNUMBER(C29)),ROUND(C29/B29*100,1),"") | H29: =IF(COUNT(F27:F29)=3,SUM(F27:F29),"") | I29: =IF(AND(ISNUMBER(F29),COUNT(F24:F26)=3),SUM(F24:F26),"") | J29: =IF(AND(ISNUMBER(H29),ISNUMBER(I29),ISNUMBER(I26)),IF(AND(H29<I29,H26<I26),"Summe sinkt zum zweiten Mal: eine Sache ändern",""),"")
A30: =IF(ISNUMBER($B$5),EDATE(DATE(YEAR($B$5),MONTH($B$5),1),21),"") -> 47027 | D30: =IF(AND(ISNUMBER(B30),B30>0,ISNUMBER(C30)),ROUND(C30/B30*100,1),"") | H30: =IF(COUNT(F28:F30)=3,SUM(F28:F30),"") | I30: =IF(AND(ISNUMBER(F30),COUNT(F25:F27)=3),SUM(F25:F27),"") | J30: =IF(AND(ISNUMBER(H30),ISNUMBER(I30),ISNUMBER(I27)),IF(AND(H30<I30,H27<I27),"Summe sinkt zum zweiten Mal: eine Sache ändern",""),"")
A31: =IF(ISNUMBER($B$5),EDATE(DATE(YEAR($B$5),MONTH($B$5),1),22),"") -> 47058 | D31: =IF(AND(ISNUMBER(B31),B31>0,ISNUMBER(C31)),ROUND(C31/B31*100,1),"") | H31: =IF(COUNT(F29:F31)=3,SUM(F29:F31),"") | I31: =IF(AND(ISNUMBER(F31),COUNT(F26:F28)=3),SUM(F26:F28),"") | J31: =IF(AND(ISNUMBER(H31),ISNUMBER(I31),ISNUMBER(I28)),IF(AND(H31<I31,H28<I28),"Summe sinkt zum zweiten Mal: eine Sache ändern",""),"")
A32: =IF(ISNUMBER($B$5),EDATE(DATE(YEAR($B$5),MONTH($B$5),1),23),"") -> 47088 | D32: =IF(AND(ISNUMBER(B32),B32>0,ISNUMBER(C32)),ROUND(C32/B32*100,1),"") | H32: =IF(COUNT(F30:F32)=3,SUM(F30:F32),"") | I32: =IF(AND(ISNUMBER(F32),COUNT(F27:F29)=3),SUM(F27:F29),"") | J32: =IF(AND(ISNUMBER(H32),ISNUMBER(I32),ISNUMBER(I29)),IF(AND(H32<I32,H29<I29),"Summe sinkt zum zweiten Mal: eine Sache ändern",""),"")

Sheet Festlegungen
A1: Festlegungen, einmal ausfüllen
A2: Was hier steht, gilt jeden Monat gleich. Nur so bleiben die Monate vergleichbar.
A4: Ebene | B4: Kennzahl im Raster | C4: Wo du sie abliest | D4: Was bei uns zählt
A5: Sichtbarkeit | B5: Erreichte Konten | C5: Statistiken des professionellen Instagram- oder Facebook-Kontos, Kalendermonat | D5: Verschiedene Konten, die deine Inhalte gesehen haben. Schätzwert, Konten aus Anzeigen sind enthalten.
A6: Reaktion | B6: Interaktionen und Linkklicks | C6: Statistiken des professionellen Kontos, Kalendermonat | D6: Likes, Kommentare, Speichern, Teilen. Stories: nein
A7: Geschäftsergebnis | B7: Passende Anfragen oder Buchungen | C7: Strichliste neben dem Telefon, Spalte im Kalender, Kürzel im Betreff der Mail, Blatt Anfragenliste | D7: Nur, was über den Kanal kam oder wofür die Person den Kanal selbst nennt
A9: Passende Anfrage heißt bei uns
A10: Leistung | B10: betrifft eine Leistung, die wir anbieten:
A11: Einzugsgebiet | B11: kommt aus unserem Einzugsgebiet:
A12: Konkret genug | B12: reicht für ein Angebot oder einen Termin
A13: Zählt | B13: ein beschriebenes Vorhaben, eine Terminanfrage, eine Bitte um Rückruf mit Anliegen
A14: Zählt nicht | B14: Werbung, Kooperationsangebote ohne Bezug zum Angebot, Nachrichten von Bestandskunden zu laufenden Aufträgen
A15: Getrennt notieren | B15: reine Preisfragen ohne Angaben zum Vorhaben, Bewerbungen
A16: Auswertung am | B16: ersten Werktag des Monats, fester Termin im Kalender

Sheet Anfragenliste
A1: Anfragenliste | J1: Passende Anfragen je Monat
A2: Jede neue Anfrage eine Zeile. Am ersten Werktag die passenden des Vormonats zählen und ins Monatsraster übertragen. | J2: Monat | K2: Passend | L2: Davon über Anzeigen
J3: =Monatsraster!A9 -> 46388 | K3: =IF(OR(J3="",COUNT($A$5:$A$154)=0),"",COUNTIFS($H$5:$H$154,J3,$F$5:$F$154,"passend")) | L3: =IF(OR(J3="",COUNT($A$5:$A$154)=0),"",COUNTIFS($H$5:$H$154,J3,$F$5:$F$154,"passend",$G$5:$G$154,"ja"))
A4: Datum | B4: Wie auf uns aufmerksam geworden? | C4: Über welchen Beitrag? | D4: Leistung | E4: Ort | F4: Einordnung | G4: Über eine Anzeige? | H4: Monat | J4: =Monatsraster!A10 -> 46419 | K4: =IF(OR(J4="",COUNT($A$5:$A$154)=0),"",COUNTIFS($H$5:$H$154,J4,$F$5:$F$154,"passend")) | L4: =IF(OR(J4="",COUNT($A$5:$A$154)=0),"",COUNTIFS($H$5:$H$154,J4,$F$5:$F$154,"passend",$G$5:$G$154,"ja"))
H5: =IF(ISNUMBER(A5),DATE(YEAR(A5),MONTH(A5),1),"") | J5: =Monatsraster!A11 -> 46447 | K5: =IF(OR(J5="",COUNT($A$5:$A$154)=0),"",COUNTIFS($H$5:$H$154,J5,$F$5:$F$154,"passend")) | L5: =IF(OR(J5="",COUNT($A$5:$A$154)=0),"",COUNTIFS($H$5:$H$154,J5,$F$5:$F$154,"passend",$G$5:$G$154,"ja"))
H6: =IF(ISNUMBER(A6),DATE(YEAR(A6),MONTH(A6),1),"") | J6: =Monatsraster!A12 -> 46478 | K6: =IF(OR(J6="",COUNT($A$5:$A$154)=0),"",COUNTIFS($H$5:$H$154,J6,$F$5:$F$154,"passend")) | L6: =IF(OR(J6="",COUNT($A$5:$A$154)=0),"",COUNTIFS($H$5:$H$154,J6,$F$5:$F$154,"passend",$G$5:$G$154,"ja"))
H7: =IF(ISNUMBER(A7),DATE(YEAR(A7),MONTH(A7),1),"") | J7: =Monatsraster!A13 -> 46508 | K7: =IF(OR(J7="",COUNT($A$5:$A$154)=0),"",COUNTIFS($H$5:$H$154,J7,$F$5:$F$154,"passend")) | L7: =IF(OR(J7="",COUNT($A$5:$A$154)=0),"",COUNTIFS($H$5:$H$154,J7,$F$5:$F$154,"passend",$G$5:$G$154,"ja"))
H8: =IF(ISNUMBER(A8),DATE(YEAR(A8),MONTH(A8),1),"") | J8: =Monatsraster!A14 -> 46539 | K8: =IF(OR(J8="",COUNT($A$5:$A$154)=0),"",COUNTIFS($H$5:$H$154,J8,$F$5:$F$154,"passend")) | L8: =IF(OR(J8="",COUNT($A$5:$A$154)=0),"",COUNTIFS($H$5:$H$154,J8,$F$5:$F$154,"passend",$G$5:$G$154,"ja"))
H9: =IF(ISNUMBER(A9),DATE(YEAR(A9),MONTH(A9),1),"") | J9: =Monatsraster!A15 -> 46569 | K9: =IF(OR(J9="",COUNT($A$5:$A$154)=0),"",COUNTIFS($H$5:$H$154,J9,$F$5:$F$154,"passend")) | L9: =IF(OR(J9="",COUNT($A$5:$A$154)=0),"",COUNTIFS($H$5:$H$154,J9,$F$5:$F$154,"passend",$G$5:$G$154,"ja"))
H10: =IF(ISNUMBER(A10),DATE(YEAR(A10),MONTH(A10),1),"") | J10: =Monatsraster!A16 -> 46600 | K10: =IF(OR(J10="",COUNT($A$5:$A$154)=0),"",COUNTIFS($H$5:$H$154,J10,$F$5:$F$154,"passend")) | L10: =IF(OR(J10="",COUNT($A$5:$A$154)=0),"",COUNTIFS($H$5:$H$154,J10,$F$5:$F$154,"passend",$G$5:$G$154,"ja"))
H11: =IF(ISNUMBER(A11),DATE(YEAR(A11),MONTH(A11),1),"") | J11: =Monatsraster!A17 -> 46631 | K11: =IF(OR(J11="",COUNT($A$5:$A$154)=0),"",COUNTIFS($H$5:$H$154,J11,$F$5:$F$154,"passend")) | L11: =IF(OR(J11="",COUNT($A$5:$A$154)=0),"",COUNTIFS($H$5:$H$154,J11,$F$5:$F$154,"passend",$G$5:$G$154,"ja"))
H12: =IF(ISNUMBER(A12),DATE(YEAR(A12),MONTH(A12),1),"") | J12: =Monatsraster!A18 -> 46661 | K12: =IF(OR(J12="",COUNT($A$5:$A$154)=0),"",COUNTIFS($H$5:$H$154,J12,$F$5:$F$154,"passend")) | L12: =IF(OR(J12="",COUNT($A$5:$A$154)=0),"",COUNTIFS($H$5:$H$154,J12,$F$5:$F$154,"passend",$G$5:$G$154,"ja"))
H13: =IF(ISNUMBER(A13),DATE(YEAR(A13),MONTH(A13),1),"") | J13: =Monatsraster!A19 -> 46692 | K13: =IF(OR(J13="",COUNT($A$5:$A$154)=0),"",COUNTIFS($H$5:$H$154,J13,$F$5:$F$154,"passend")) | L13: =IF(OR(J13="",COUNT($A$5:$A$154)=0),"",COUNTIFS($H$5:$H$154,J13,$F$5:$F$154,"passend",$G$5:$G$154,"ja"))
H14: =IF(ISNUMBER(A14),DATE(YEAR(A14),MONTH(A14),1),"") | J14: =Monatsraster!A20 -> 46722 | K14: =IF(OR(J14="",COUNT($A$5:$A$154)=0),"",COUNTIFS($H$5:$H$154,J14,$F$5:$F$154,"passend")) | L14: =IF(OR(J14="",COUNT($A$5:$A$154)=0),"",COUNTIFS($H$5:$H$154,J14,$F$5:$F$154,"passend",$G$5:$G$154,"ja"))
H15: =IF(ISNUMBER(A15),DATE(YEAR(A15),MONTH(A15),1),"") | J15: =Monatsraster!A21 -> 46753 | K15: =IF(OR(J15="",COUNT($A$5:$A$154)=0),"",COUNTIFS($H$5:$H$154,J15,$F$5:$F$154,"passend")) | L15: =IF(OR(J15="",COUNT($A$5:$A$154)=0),"",COUNTIFS($H$5:$H$154,J15,$F$5:$F$154,"passend",$G$5:$G$154,"ja"))
H16: =IF(ISNUMBER(A16),DATE(YEAR(A16),MONTH(A16),1),"") | J16: =Monatsraster!A22 -> 46784 | K16: =IF(OR(J16="",COUNT($A$5:$A$154)=0),"",COUNTIFS($H$5:$H$154,J16,$F$5:$F$154,"passend")) | L16: =IF(OR(J16="",COUNT($A$5:$A$154)=0),"",COUNTIFS($H$5:$H$154,J16,$F$5:$F$154,"passend",$G$5:$G$154,"ja"))
... H26: =IF(ISNUMBER(A26),DATE(YEAR(A26),MONTH(A26),1),"") | J26: =Monatsraster!A32 -> 47088 | K26: =IF(OR(J26="",COUNT($A$5:$A$154)=0),"",COUNTIFS($H$5:$H$154,J26,$F$5:$F$154,"passend")) | L26: =IF(OR(J26="",COUNT($A$5:$A$154)=0),"",COUNTIFS($H$5:$H$154,J26,$F$5:$F$154,"passend",$G$5:$G$154,"ja"))
H27: =IF(ISNUMBER(A27),DATE(YEAR(A27),MONTH(A27),1),"")
H28: =IF(ISNUMBER(A28),DATE(YEAR(A28),MONTH(A28),1),"")
H29: =IF(ISNUMBER(A29),DATE(YEAR(A29),MONTH(A29),1),"")
H30: =IF(ISNUMBER(A30),DATE(YEAR(A30),MONTH(A30),1),"")
H31: =IF(ISNUMBER(A31),DATE(YEAR(A31),MONTH(A31),1),"")
H32: =IF(ISNUMBER(A32),DATE(YEAR(A32),MONTH(A32),1),"")
H33: =IF(ISNUMBER(A33),DATE(YEAR(A33),MONTH(A33),1),"")
H34: =IF(ISNUMBER(A34),DATE(YEAR(A34),MONTH(A34),1),"")
H35: =IF(ISNUMBER(A35),DATE(YEAR(A35),MONTH(A35),1),"")
H36: =IF(ISNUMBER(A36),DATE(YEAR(A36),MONTH(A36),1),"")
H37: =IF(ISNUMBER(A37),DATE(YEAR(A37),MONTH(A37),1),"")
H38: =IF(ISNUMBER(A38),DATE(YEAR(A38),MONTH(A38),1),"")
... H154: =IF(ISNUMBER(A154),DATE(YEAR(A154),MONTH(A154),1),"")
